BEGIN:VCALENDAR
VERSION:2.0
PRODID:-//Safenet Services, Inc. - ECPv6.15.20//NONSGML v1.0//EN
CALSCALE:GREGORIAN
METHOD:PUBLISH
X-WR-CALNAME:Safenet Services, Inc.
X-ORIGINAL-URL:https://www.safenetservices.org
X-WR-CALDESC:Events for Safenet Services, Inc.
REFRESH-INTERVAL;VALUE=DURATION:PT1H
X-Robots-Tag:noindex
X-PUBLISHED-TTL:PT1H
BEGIN:VTIMEZONE
TZID:UTC
BEGIN:STANDARD
TZOFFSETFROM:+0000
TZOFFSETTO:+0000
TZNAME:UTC
DTSTART:20220101T000000
END:STANDARD
END:VTIMEZONE
BEGIN:VTIMEZONE
TZID:America/Chicago
BEGIN:DAYLIGHT
TZOFFSETFROM:-0600
TZOFFSETTO:-0500
TZNAME:CDT
DTSTART:20220313T080000
END:DAYLIGHT
BEGIN:STANDARD
TZOFFSETFROM:-0500
TZOFFSETTO:-0600
TZNAME:CST
DTSTART:20221106T070000
END:STANDARD
BEGIN:DAYLIGHT
TZOFFSETFROM:-0600
TZOFFSETTO:-0500
TZNAME:CDT
DTSTART:20230312T080000
END:DAYLIGHT
BEGIN:STANDARD
TZOFFSETFROM:-0500
TZOFFSETTO:-0600
TZNAME:CST
DTSTART:20231105T070000
END:STANDARD
BEGIN:DAYLIGHT
TZOFFSETFROM:-0600
TZOFFSETTO:-0500
TZNAME:CDT
DTSTART:20240310T080000
END:DAYLIGHT
BEGIN:STANDARD
TZOFFSETFROM:-0500
TZOFFSETTO:-0600
TZNAME:CST
DTSTART:20241103T070000
END:STANDARD
END:VTIMEZONE
BEGIN:VEVENT
DTSTART;TZID=UTC:20230323T113000
DTEND;TZID=UTC:20230323T123000
DTSTAMP:20260421T135652
CREATED:20230111T213146Z
LAST-MODIFIED:20230111T215924Z
UID:11166-1679571000-1679574600@www.safenetservices.org
SUMMARY:Sexual Assault Advocacy and Prevention Workshop (Pryor)
DESCRIPTION:Join us in Pryor! We do have a limited capacity and we ask that you pre-register for this event to provide enough materials for everyone attending. We cannot wait to see you! If you have attended last year\, feel free to come back for a refresher! Visit https://www.eventbrite.com/e/sexual-assault-advocacy-and-prevention-tickets-511924228147 \nAgain\, we would love to extend our vision beyond the walls of our shelter into the community so that all of Rogers and Mayes counties can be safe places for individuals and families to heal.\nOur goal is to offer prevention solutions and trauma-informed education tailored to different subsets of the community. This free workshop includes lunch served by Buffalo Wild Wings and provides members of the community with the prevention of sexual violence and response to sexual assault survivors.
URL:https://www.safenetservices.org/event/intro-to-sexual-assault-advocacy-and-prevention-workshop-pryor/
LOCATION:NTC Pryor Campus\, 6195 W Highway 20\, Pryor\, OK
END:VEVENT
BEGIN:VEVENT
DTSTART;TZID=America/Chicago:20230310T080000
DTEND;TZID=America/Chicago:20230310T090000
DTSTAMP:20260421T135652
CREATED:20230111T212416Z
LAST-MODIFIED:20230111T213512Z
UID:11162-1678435200-1678438800@www.safenetservices.org
SUMMARY:Awareness Tour
DESCRIPTION:Please pre-register at the following link for our Tours. https://safenetservices.dm.networkforgood.com/forms/awareness-tour-form
URL:https://www.safenetservices.org/event/awareness-tour-2/
LOCATION:Safenet Services\, 1219 West Dupont Street\, Claremore\, OK\, 74017\, United States
ATTACH;FMTTYPE=image/png:https://www.safenetservices.org/wp-content/uploads/2022/08/Tour-Logo-Facebook-Cover.png
END:VEVENT
BEGIN:VEVENT
DTSTART;TZID=America/Chicago:20230309T113000
DTEND;TZID=America/Chicago:20230309T123000
DTSTAMP:20260421T135652
CREATED:20230111T211504Z
LAST-MODIFIED:20230111T220107Z
UID:11154-1678361400-1678365000@www.safenetservices.org
SUMMARY:Sexual Assault Advocacy and Prevention Workshop (Claremore)
DESCRIPTION:We do have a limited capacity and we ask that you pre-register for this event to provide enough materials for everyone attending. We cannot wait to see you! If you have attended last year\, feel free to come back for a refresher! Visit https://www.eventbrite.com/e/sexual-assault-advocacy-and-prevention-tickets-511924228147 to register for this event. \nAgain\, we would love to extend our vision beyond the walls of our shelter into the community so that all of Rogers and Mayes counties can be safe places for individuals and families to heal.\nOur goal is to offer prevention solutions and trauma-informed education tailored to different subsets of the community. This free workshop includes lunch served by Buffalo Wild Wings and provides members of the community with the prevention of sexual violence and response to sexual assault survivors.
URL:https://www.safenetservices.org/event/intro-to-sexual-assault-advocacy-and-prevention-workshop/
LOCATION:NTC Claremore Campus\, 1901 N Highway 88\, Claremore\, OK\, 74017
END:VEVENT
BEGIN:VEVENT
DTSTART;VALUE=DATE:20230201
DTEND;VALUE=DATE:20230301
DTSTAMP:20260421T135652
CREATED:20230111T210635Z
LAST-MODIFIED:20230111T210635Z
UID:11149-1675209600-1677628799@www.safenetservices.org
SUMMARY:Teen Dating Violence Awareness Month
DESCRIPTION:love is respect advocates are available 24/7\nWe offer confidential support for teens\, young adults\, and their loved ones seeking help\, resources\, or information related to healthy relationships and dating abuse in the US. We’re available by text (“LOVEIS” to 22522)\, call (866.331.9474)\, or live chat online.
URL:https://www.safenetservices.org/event/teen-dating-violence-awareness-month/
END:VEVENT
BEGIN:VEVENT
DTSTART;TZID=America/Chicago:20230113T080000
DTEND;TZID=America/Chicago:20230113T090000
DTSTAMP:20260421T135652
CREATED:20230111T210000Z
LAST-MODIFIED:20230111T213600Z
UID:11140-1673596800-1673600400@www.safenetservices.org
SUMMARY:Awareness Tour
DESCRIPTION:Please pre-register at the following link for our Tours. https://safenetservices.dm.networkforgood.com/forms/awareness-tour-form
URL:https://www.safenetservices.org/event/awareness-tour/
LOCATION:Safenet Services\, 1219 West Dupont Street\, Claremore\, OK\, 74017\, United States
ATTACH;FMTTYPE=image/png:https://www.safenetservices.org/wp-content/uploads/2022/08/Tour-Logo-Facebook-Cover.png
END:VEVENT
BEGIN:VEVENT
DTSTART;VALUE=DATE:20230101
DTEND;VALUE=DATE:20230201
DTSTAMP:20260421T135652
CREATED:20221228T223446Z
LAST-MODIFIED:20230111T210843Z
UID:11068-1672531200-1675209599@www.safenetservices.org
SUMMARY:Stalking Awareness Month
DESCRIPTION:
URL:https://www.safenetservices.org/event/stalking-awareness-month/
ATTACH;FMTTYPE=image/png:https://www.safenetservices.org/wp-content/uploads/2022/12/5.png
END:VEVENT
END:VCALENDAR