BEGIN:VCALENDAR
VERSION:2.0
PRODID:-//eventon.com NONSGML v1.0//EN
CALSCALE:GREGORIAN
METHOD:PUBLISH
BEGIN:VEVENT
UID:69e4fb084da57
DTSTAMP:20260419T155552Z
DTSTART:20221001
DTEND:20221002
LOCATION:
SUMMARY:Domestic Violence Awareness Month
DESCRIPTION:Domestic Violence Awareness Month\nhttps://www.safenetservices.
 org/events/domestic-violence-awareness-month/
URL:https://www.safenetservices.org/events/domestic-violence-awareness-month/
END:VEVENT
END:VCALENDAR