BEGIN:VCALENDAR
VERSION:2.0
PRODID:-//eventon.com NONSGML v1.0//EN
CALSCALE:GREGORIAN
METHOD:PUBLISH
BEGIN:VEVENT
UID:69e4cbfcbefc4
DTSTAMP:20260419T123508Z
DTSTART:20220909T130000Z
DTEND:20220909T140000Z
LOCATION:
SUMMARY:September Awareness Tour
DESCRIPTION:The Awareness Tours are not a fundraising endeavor but a signif
 icant part in raising awareness and advocating for individuals and families
  looking to write a new chapter: one that is filled with security\,  dignit
 y\,  and stability. Meet a member of our staff\,  a volunteer\,  and a boar
 d representative and glimpse[..]\nhttps://www.safenetservices.org/events/aw
 areness-tour/
URL:https://www.safenetservices.org/events/awareness-tour/
END:VEVENT
END:VCALENDAR