BEGIN:VCALENDAR
VERSION:2.0
PRODID:-//eventon.com NONSGML v1.0//EN
CALSCALE:GREGORIAN
METHOD:PUBLISH
BEGIN:VEVENT
UID:69e4d1bcd7b79
DTSTAMP:20260419T125940Z
DTSTART:20221118T140000Z
DTEND:20221118T150000Z
LOCATION:
SUMMARY:November Awareness Tour
DESCRIPTION:The Awareness Tours are not a fundraising endeavor but a signif
 icant part in raising awareness and advocating for individuals and families
  looking to write a new chapter: one that is filled with security\,  dignit
 y\,  and stability. Meet a member of our staff\,  a volunteer\,  and a boar
 d representative and glimpse[..]\nhttps://www.safenetservices.org/events/no
 vember-awareness-tour/
URL:https://www.safenetservices.org/events/november-awareness-tour/
END:VEVENT
END:VCALENDAR