BEGIN:VCALENDAR
VERSION:2.0
PRODID:-//eventon.com NONSGML v1.0//EN
CALSCALE:GREGORIAN
METHOD:PUBLISH
BEGIN:VEVENT
UID:69e52927bcc43
DTSTAMP:20260419T191239Z
DTSTART:20230113T140000Z
DTEND:20230113T150000Z
LOCATION:
SUMMARY:Awareness Tour
DESCRIPTION:The Awareness Tours are not a fundraising endeavor but a signif
 icant part in raising awareness and advocating for individuals and families
  looking to write a new chapter: one that is filled with security\,  dignit
 y\,  and stability. Meet a member of our staff\,  a volunteer\,  and a boar
 d representative and glimpse[..]\nhttps://www.safenetservices.org/events/aw
 areness-tour-2/
URL:https://www.safenetservices.org/events/awareness-tour-2/
END:VEVENT
END:VCALENDAR