BEGIN:VCALENDAR
VERSION:2.0
PRODID:-//eventon.com NONSGML v1.0//EN
CALSCALE:GREGORIAN
METHOD:PUBLISH
BEGIN:VEVENT
UID:69e4cb6085474
DTSTAMP:20260419T123232Z
DTSTART:20221004T170000Z
DTEND:20221004T181500Z
LOCATION:
SUMMARY:Healthy Relationships
DESCRIPTION:\nhttps://www.safenetservices.org/events/healthy-relationships/
 var/event_access
URL:https://www.safenetservices.org/events/healthy-relationships/var/event_access
END:VEVENT
END:VCALENDAR