BEGIN:VCALENDAR
VERSION:2.0
PRODID:-//eventon.com NONSGML v1.0//EN
CALSCALE:GREGORIAN
METHOD:PUBLISH
BEGIN:VEVENT
UID:69e4cbbfbb617
DTSTAMP:20260419T123407Z
DTSTART:20221017T230000Z
DTEND:20221018T003000Z
LOCATION:
SUMMARY:Yoga on the Hill
DESCRIPTION:Domestic Violence Awareness Month Event Register Here\nhttps://
 www.safenetservices.org/events/yoga-on-the-hill/
URL:https://www.safenetservices.org/events/yoga-on-the-hill/
END:VEVENT
END:VCALENDAR