BEGIN:VCALENDAR
VERSION:2.0
PRODID:-//eventon.com NONSGML v1.0//EN
CALSCALE:GREGORIAN
METHOD:PUBLISH
BEGIN:VEVENT
UID:69e4cb9936a2a
DTSTAMP:20260419T123329Z
DTSTART:20221018T180000Z
DTEND:20221018T191500Z
LOCATION:
SUMMARY:Empowerment Workshop
DESCRIPTION:Domestic Violence Awareness Month Event Register Here\nhttps://
 www.safenetservices.org/events/empowerment-workshop/var/event_access
URL:https://www.safenetservices.org/events/empowerment-workshop/var/event_access
END:VEVENT
END:VCALENDAR